BEGIN:VCALENDAR
VERSION:2.0
PRODID:-//ddaysoftware.com//NONSGML DDay.iCal 1.0//EN
BEGIN:VEVENT
DESCRIPTION:Zomerfeest gaat door in "De Boeretang"
DTEND:20260626T233000
DTSTAMP:20260420T170044Z
DTSTART:20260626T180000
SEQUENCE:0
SUMMARY:Zomerfeest gaat door in "De Boeretang"
UID:658be07c-5481-40df-8351-93a11a4c0a14
END:VEVENT
END:VCALENDAR
